BEGIN:VCALENDAR
VERSION:2.0
PRODID:-//Ingleside Golf Club - ECPv6.15.18//NONSGML v1.0//EN
CALSCALE:GREGORIAN
METHOD:PUBLISH
X-ORIGINAL-URL:https://www.golfingleside.com
X-WR-CALDESC:Events for Ingleside Golf Club
REFRESH-INTERVAL;VALUE=DURATION:PT1H
X-Robots-Tag:noindex
X-PUBLISHED-TTL:PT1H
BEGIN:VTIMEZONE
TZID:America/New_York
BEGIN:DAYLIGHT
TZOFFSETFROM:-0500
TZOFFSETTO:-0400
TZNAME:EDT
DTSTART:20250309T070000
END:DAYLIGHT
BEGIN:STANDARD
TZOFFSETFROM:-0400
TZOFFSETTO:-0500
TZNAME:EST
DTSTART:20251102T060000
END:STANDARD
BEGIN:DAYLIGHT
TZOFFSETFROM:-0500
TZOFFSETTO:-0400
TZNAME:EDT
DTSTART:20260308T070000
END:DAYLIGHT
BEGIN:STANDARD
TZOFFSETFROM:-0400
TZOFFSETTO:-0500
TZNAME:EST
DTSTART:20261101T060000
END:STANDARD
BEGIN:DAYLIGHT
TZOFFSETFROM:-0500
TZOFFSETTO:-0400
TZNAME:EDT
DTSTART:20270314T070000
END:DAYLIGHT
BEGIN:STANDARD
TZOFFSETFROM:-0400
TZOFFSETTO:-0500
TZNAME:EST
DTSTART:20271107T060000
END:STANDARD
END:VTIMEZONE
BEGIN:VEVENT
DTSTART;TZID=America/New_York:20260416T110000
DTEND;TZID=America/New_York:20260416T120000
DTSTAMP:20260421T041006
CREATED:20260413T154138Z
LAST-MODIFIED:20260413T154138Z
UID:10000079-1776337200-1776340800@www.golfingleside.com
SUMMARY:West Chester University - Range Session
DESCRIPTION:
URL:https://www.golfingleside.com/event/west-chester-university-range-session/
END:VEVENT
BEGIN:VEVENT
DTSTART;TZID=America/New_York:20260416T170000
DTEND;TZID=America/New_York:20260416T190000
DTSTAMP:20260421T041006
CREATED:20260406T170024Z
LAST-MODIFIED:20260406T170024Z
UID:10000071-1776358800-1776366000@www.golfingleside.com
SUMMARY:First Tee of Greater Philadelphia - Youth Golf Class (Spring I Session)
DESCRIPTION:https://www.golfingleside.com/golf-events/junior-golf-events/\nRotating weekly between range\, putting green\, and chipping practice area. \n 
URL:https://www.golfingleside.com/event/first-tee-of-greater-philadelphia-youth-golf-class-spring-i-session/2026-04-16/
END:VEVENT
END:VCALENDAR